BEGIN:VCALENDAR
VERSION:2.0
PRODID:-//In Gruna leben e.V. - ECPv6.8.3//NONSGML v1.0//EN
CALSCALE:GREGORIAN
METHOD:PUBLISH
X-ORIGINAL-URL:https://dresden-gruna.de
X-WR-CALDESC:Veranstaltungen für In Gruna leben e.V.
REFRESH-INTERVAL;VALUE=DURATION:PT1H
X-Robots-Tag:noindex
X-PUBLISHED-TTL:PT1H
BEGIN:VTIMEZONE
TZID:Europe/Berlin
BEGIN:DAYLIGHT
TZOFFSETFROM:+0100
TZOFFSETTO:+0200
TZNAME:CEST
DTSTART:20200329T010000
END:DAYLIGHT
BEGIN:STANDARD
TZOFFSETFROM:+0200
TZOFFSETTO:+0100
TZNAME:CET
DTSTART:20201025T010000
END:STANDARD
END:VTIMEZONE
BEGIN:VEVENT
DTSTART;TZID=Europe/Berlin:20200904T183000
DTEND;TZID=Europe/Berlin:20200904T183000
DTSTAMP:20260424T193736
CREATED:20200716T205240Z
LAST-MODIFIED:20200716T205240Z
UID:2639-1599244200-1599244200@dresden-gruna.de
SUMMARY:Fledermäuse - Flugkünstler in der Dämmerung
DESCRIPTION:Vortrag und anschließende Führung \nAbendsegler\, Langohr\, Hufeisennase: Hinter diesen klangvollen Namen verbergen sich verschiedene Fledermausarten\, die auch hier bei uns in Sachsen heimisch sind. In der Dämmerung sieht man die geschickten Jäger bei ihrer Nahrungssuche.\nAm 4. September wird uns Bianka Schubert vom NABU Sachsen Interessantes aus der Welt der Fledermäuse näherbringen und mit uns auch auf die Pirsch gehen.\nWir laden herzlich für 18:30 Uhr in die Thomaskirche zu einer Einführung in die Welt der Fledermäuse ein. Anschließend werden wir (vorausgesetzt es regnet nicht) gemeinsam in den Großen Garten spazieren und die eine oder andere Art von ihnen mit Frau Schuberts Hilfe beobachten und mithilfe eines Ultraschalldetektors hören. \nBeginn: Thomaskirche Dresden-Gruna (Bodenbacher Str. 21)\nEv.-luth. Kirchgemeinde Dresden-Gruna-Seidnitz (V: J. Hermann)
URL:https://dresden-gruna.de/event/fledermaeuse-flugkuenstler-in-der-daemmerung/
LOCATION:Thomaskirche\, Bodenbacher Str. 21\, Dresden\, 01277\, Deutschland
CATEGORIES:Projekte und Aktionen
ORGANIZER;CN="Evangelisch-Lutherische Kirchgemeinde Dresden Gruna-Seidnitz":MAILTO:pfarramt@kirche-gruna-seidnitz.net
END:VEVENT
END:VCALENDAR