BEGIN:VCALENDAR
VERSION:2.0
PRODID:-//In Gruna leben e.V. - ECPv6.8.3//NONSGML v1.0//EN
CALSCALE:GREGORIAN
METHOD:PUBLISH
X-ORIGINAL-URL:https://dresden-gruna.de
X-WR-CALDESC:Veranstaltungen für In Gruna leben e.V.
REFRESH-INTERVAL;VALUE=DURATION:PT1H
X-Robots-Tag:noindex
X-PUBLISHED-TTL:PT1H
BEGIN:VTIMEZONE
TZID:Europe/Berlin
BEGIN:DAYLIGHT
TZOFFSETFROM:+0100
TZOFFSETTO:+0200
TZNAME:CEST
DTSTART:20200329T010000
END:DAYLIGHT
BEGIN:STANDARD
TZOFFSETFROM:+0200
TZOFFSETTO:+0100
TZNAME:CET
DTSTART:20201025T010000
END:STANDARD
END:VTIMEZONE
BEGIN:VEVENT
DTSTART;TZID=Europe/Berlin:20200817T163000
DTEND;TZID=Europe/Berlin:20200817T180000
DTSTAMP:20260424T212803
CREATED:20200805T144336Z
LAST-MODIFIED:20200805T144336Z
UID:2677-1597681800-1597687200@dresden-gruna.de
SUMMARY:RepairCafé: Nähen
DESCRIPTION:Loch in der Kinderhose? Naht kaputt? Knopf ab? \nKein Problem! Gemeinsam beheben wir diese kleinen Problemchen beim ersten RepairCafé zum Thema „Nähen“! \nEinfach das kaputte Teil und eventuelle Stoffreste/alte Shirts mitbringen und dann wird zusammen eine Lösung gefunden. \nLust vorbeizukommen? Dann melde dich unter repaircafetextil@posteo.de für die Veranstaltung an.
URL:https://dresden-gruna.de/event/repaircafe-naehen/
LOCATION:Sofa9\, Rosenberstraße 12\, Dresden\, 01277
CATEGORIES:Projekte und Aktionen,RepairCafé
ATTACH;FMTTYPE=application/pdf:https://dresden-gruna.de/wp-content/uploads/2020/08/RepairCafeTextil-1.pdf
ORGANIZER;CN="Elena":MAILTO:repaircafetextil@posteo.de
END:VEVENT
END:VCALENDAR