BEGIN:VCALENDAR
VERSION:2.0
PRODID:-//In Gruna leben e.V. - ECPv6.8.3//NONSGML v1.0//EN
CALSCALE:GREGORIAN
METHOD:PUBLISH
X-ORIGINAL-URL:https://dresden-gruna.de
X-WR-CALDESC:Veranstaltungen für In Gruna leben e.V.
REFRESH-INTERVAL;VALUE=DURATION:PT1H
X-Robots-Tag:noindex
X-PUBLISHED-TTL:PT1H
BEGIN:VTIMEZONE
TZID:Europe/Berlin
BEGIN:DAYLIGHT
TZOFFSETFROM:+0100
TZOFFSETTO:+0200
TZNAME:CEST
DTSTART:20200329T010000
END:DAYLIGHT
BEGIN:STANDARD
TZOFFSETFROM:+0200
TZOFFSETTO:+0100
TZNAME:CET
DTSTART:20201025T010000
END:STANDARD
END:VTIMEZONE
BEGIN:VEVENT
DTSTART;TZID=Europe/Berlin:20200806T200000
DTEND;TZID=Europe/Berlin:20200806T220000
DTSTAMP:20260424T212814
CREATED:20200704T231212Z
LAST-MODIFIED:20200704T231212Z
UID:2610-1596744000-1596751200@dresden-gruna.de
SUMMARY:Brunnenfest-Treff
DESCRIPTION:Öffentlicher Treff mit allen Beteiligten und Interessierten
URL:https://dresden-gruna.de/event/brunnenfest-treff-2/
LOCATION:Bodenbacher Eck\, Bodenbacher Str. 28\, Dresden\, 01277\, Deutschland
CATEGORIES:Planungs- und Absprachetreffen
ATTACH;FMTTYPE=image/jpeg:https://dresden-gruna.de/wp-content/uploads/2018/04/meeting.jpg
ORGANIZER;CN="'In Gruna leben' e.V.":MAILTO:post@dresden-gruna.de
END:VEVENT
END:VCALENDAR