BEGIN:VCALENDAR
VERSION:2.0
PRODID:-//In Gruna leben e.V. - ECPv6.8.3//NONSGML v1.0//EN
CALSCALE:GREGORIAN
METHOD:PUBLISH
X-ORIGINAL-URL:https://dresden-gruna.de
X-WR-CALDESC:Veranstaltungen für In Gruna leben e.V.
REFRESH-INTERVAL;VALUE=DURATION:PT1H
X-Robots-Tag:noindex
X-PUBLISHED-TTL:PT1H
BEGIN:VTIMEZONE
TZID:Europe/Berlin
BEGIN:DAYLIGHT
TZOFFSETFROM:+0100
TZOFFSETTO:+0200
TZNAME:CEST
DTSTART:20200329T010000
END:DAYLIGHT
BEGIN:STANDARD
TZOFFSETFROM:+0200
TZOFFSETTO:+0100
TZNAME:CET
DTSTART:20201025T010000
END:STANDARD
END:VTIMEZONE
BEGIN:VEVENT
DTSTART;TZID=Europe/Berlin:20200709T193000
DTEND;TZID=Europe/Berlin:20200709T210000
DTSTAMP:20260424T224956
CREATED:20200302T080451Z
LAST-MODIFIED:20200627T070721Z
UID:2060-1594323000-1594328400@dresden-gruna.de
SUMMARY:Lesekreis #5: Der Angstmann von Frank Goldammer
DESCRIPTION:Das Buch ist noch nicht tot\, also komm zum Lesekreis in der Grunaer Aue! (Und melde dich zum Newsletter an! )  \nTreff ist alle 5 Wochen donnerstags in der Grunaer Aue. Dort bespricht man dann nach entspannter Lesekreis-Manier das zuvor gemeinsam festgelegte Buch. \nNach genau sowas hast du gesucht? Wenn du interessiert bist und gerne mitmachen möchtest\, melde dich hier zum Newsletter an und bleibe umfassend informiert. \nBis dahin! Michael vom Lesekreis_Dresden \n  \n*** Bitte achte auf das Hygienekonzept der Grunaer Aue! Du findest es hier. ***
URL:https://dresden-gruna.de/event/lesekreis-5-der-angstmann-von-frank-goldammer/
LOCATION:Bürger-Treff „Grunaer Aue“ Winterbergstr.31c\, 01277 Dresden\, Winterbergstraße 31c\, Dresden\, 01277\, Deutschland
CATEGORIES:Lesekreis,Projekte und Aktionen
ATTACH;FMTTYPE=image/png:https://dresden-gruna.de/wp-content/uploads/2020/03/Bildschirmfoto-2020-03-02-um-09.01.07-e1583136212843.png
END:VEVENT
BEGIN:VEVENT
DTSTART;TZID=Europe/Berlin:20200709T200000
DTEND;TZID=Europe/Berlin:20200709T220000
DTSTAMP:20260424T224956
CREATED:20200704T231042Z
LAST-MODIFIED:20200704T231042Z
UID:2608-1594324800-1594332000@dresden-gruna.de
SUMMARY:Brunnenfest-Treff
DESCRIPTION:Öffentlicher Treff mit allen Beteiligten und Interessierten
URL:https://dresden-gruna.de/event/brunnenfest-treff/
LOCATION:Bodenbacher Eck\, Bodenbacher Str. 28\, Dresden\, 01277\, Deutschland
CATEGORIES:Planungs- und Absprachetreffen
ORGANIZER;CN="'In Gruna leben' e.V.":MAILTO:post@dresden-gruna.de
END:VEVENT
END:VCALENDAR