BEGIN:VCALENDAR
VERSION:2.0
PRODID:-//In Gruna leben e.V. - ECPv6.8.3//NONSGML v1.0//EN
CALSCALE:GREGORIAN
METHOD:PUBLISH
X-ORIGINAL-URL:https://dresden-gruna.de
X-WR-CALDESC:Veranstaltungen für In Gruna leben e.V.
REFRESH-INTERVAL;VALUE=DURATION:PT1H
X-Robots-Tag:noindex
X-PUBLISHED-TTL:PT1H
BEGIN:VTIMEZONE
TZID:Europe/Berlin
BEGIN:DAYLIGHT
TZOFFSETFROM:+0100
TZOFFSETTO:+0200
TZNAME:CEST
DTSTART:20200329T010000
END:DAYLIGHT
BEGIN:STANDARD
TZOFFSETFROM:+0200
TZOFFSETTO:+0100
TZNAME:CET
DTSTART:20201025T010000
END:STANDARD
END:VTIMEZONE
BEGIN:VEVENT
DTSTART;TZID=Europe/Berlin:20200603T200000
DTEND;TZID=Europe/Berlin:20200603T213000
DTSTAMP:20260425T004142
CREATED:20200527T142920Z
LAST-MODIFIED:20200527T142920Z
UID:2488-1591214400-1591219800@dresden-gruna.de
SUMMARY:Projekt-Treff Gruppe "Stadtgrün" am 03.06.2020
DESCRIPTION:Die Projektgruppe „Stadtgrün“ trifft sich am 03.06.2020 um 20 Uhr zum gemeinsam Kick-off und Brainstorming in der Grunaer Aue! \nMit neuem Mut und vielen Ideen soll Gruna endlich grüner und nachhaltiger werden! Wenn auch du daran interessiert bist\, komm doch einfach vorbei und bring dich ein! 😉 \n*** Bitte achtet auf unsere geltenden >>>Hygienemaßnahmen! *** \n*** Teilnahme nur nach vorheriger Anmeldung via post@dresden-gruna.de oder (+49) 0178 / 29 84  423! ***
URL:https://dresden-gruna.de/event/projekt-treff-gruppe-stadtgruen-am-03-06-2020/
LOCATION:Bürger-Treff „Grunaer Aue“ Winterbergstr.31c\, 01277 Dresden\, Winterbergstraße 31c\, Dresden\, 01277\, Deutschland
CATEGORIES:Planungs- und Absprachetreffen
ORGANIZER;CN="'In Gruna leben' e.V.":MAILTO:post@dresden-gruna.de
END:VEVENT
END:VCALENDAR