BEGIN:VCALENDAR
VERSION:2.0
PRODID:-//In Gruna leben e.V. - ECPv6.8.3//NONSGML v1.0//EN
CALSCALE:GREGORIAN
METHOD:PUBLISH
X-ORIGINAL-URL:https://dresden-gruna.de
X-WR-CALDESC:Veranstaltungen für In Gruna leben e.V.
REFRESH-INTERVAL;VALUE=DURATION:PT1H
X-Robots-Tag:noindex
X-PUBLISHED-TTL:PT1H
BEGIN:VTIMEZONE
TZID:Europe/Berlin
BEGIN:DAYLIGHT
TZOFFSETFROM:+0100
TZOFFSETTO:+0200
TZNAME:CEST
DTSTART:20200329T010000
END:DAYLIGHT
BEGIN:STANDARD
TZOFFSETFROM:+0200
TZOFFSETTO:+0100
TZNAME:CET
DTSTART:20201025T010000
END:STANDARD
END:VTIMEZONE
BEGIN:VEVENT
DTSTART;VALUE=DATE:20200501
DTEND;VALUE=DATE:20200506
DTSTAMP:20260425T024301
CREATED:20200122T001759Z
LAST-MODIFIED:20200311T151214Z
UID:1922-1588291200-1588723199@dresden-gruna.de
SUMMARY:Jane´s Walk Festival vom 03.-05. Mai 2020
DESCRIPTION:Jährlich organisieren wir Jane’s Walks im Rahmen des Jane’s Walk Festival des Vereins Dresden zu Fuß. Zu diesem Anlass führen Freiwillige und Mitglieder der IGL Interessierte unter verschiedenen thematischen Schwerpunkten durch unser Stadtviertel. \n  \nJede*r ist willkommen und jede*r kann mitmachen. Falls auch Du eine Idee für einen Jane’s Walk hast\, kannst du: \n  \n\ndich bei uns über das Kontaktformular melden;\ndirekt eine Mail an mobil@dresden-gruna.de schreiben;\ndeinen Walk über die Jane’s-Walk-Website anmelden.
URL:https://dresden-gruna.de/event/janes-walks/
CATEGORIES:Projekte und Aktionen
ATTACH;FMTTYPE=image/gif:https://dresden-gruna.de/wp-content/uploads/2019/04/JanesWalk_Logo_orange_grey.gif
ORGANIZER;CN="'In Gruna leben' e.V.":MAILTO:post@dresden-gruna.de
END:VEVENT
BEGIN:VEVENT
DTSTART;TZID=Europe/Berlin:20200503T100000
DTEND;TZID=Europe/Berlin:20200503T113000
DTSTAMP:20260425T024301
CREATED:20200311T130015Z
LAST-MODIFIED:20200311T162849Z
UID:2266-1588500000-1588505400@dresden-gruna.de
SUMMARY:Grunaer Höfe und Höflichkeit – unterwegs auf der Nord-Süd-Magistrale durch die Grunaer Geschichte
DESCRIPTION:Gruna wurde vor 650 Jahren erstmals urkundlich erwähnt und so begeben wir uns 2020 ganzjährig auf Spurensuche durch diesen Dresdner Stadtteil. Anknüpfend an einen Spaziergang im Jahr 2019 mit dem „Männer unter Ton“-Chor wollen wir diesmal durch Grunaer Wohnhöfe streifen und schauen\, wie höflich deren Anwohner sind. Vielleicht geht die Gastlichkeit so weit\, den Flaneuren eine Erfrischung und eine kleine Geschichte mit auf den Weg zu geben? \nRoute: durch Gruna \nThemen: Geschichte und Geschichten \nTreffpunkt: Schlüterstraße/Ecke Schrammsteinstraße\, Bushaltestelle Schlüterstraße (Linien 61\, 85)
URL:https://dresden-gruna.de/event/grunaer-hoefe-und-hoeflichkeit/
LOCATION:Bushaltestelle Schlüterstraße\, 2QQR+38 Dresden\, Dresden\, Sachsen\, Deutschland
CATEGORIES:Historische Rundgänge,Jane's Walks in Gruna,Projekte und Aktionen
ATTACH;FMTTYPE=image/gif:https://dresden-gruna.de/wp-content/uploads/2019/04/JanesWalk_Logo_orange_grey.gif
ORGANIZER;CN="'In Gruna leben' e.V.":MAILTO:post@dresden-gruna.de
END:VEVENT
END:VCALENDAR