BEGIN:VCALENDAR
VERSION:2.0
PRODID:-//In Gruna leben e.V. - ECPv6.8.3//NONSGML v1.0//EN
CALSCALE:GREGORIAN
METHOD:PUBLISH
X-ORIGINAL-URL:https://dresden-gruna.de
X-WR-CALDESC:Veranstaltungen für In Gruna leben e.V.
REFRESH-INTERVAL;VALUE=DURATION:PT1H
X-Robots-Tag:noindex
X-PUBLISHED-TTL:PT1H
BEGIN:VTIMEZONE
TZID:Europe/Berlin
BEGIN:DAYLIGHT
TZOFFSETFROM:+0100
TZOFFSETTO:+0200
TZNAME:CEST
DTSTART:20200329T010000
END:DAYLIGHT
BEGIN:STANDARD
TZOFFSETFROM:+0200
TZOFFSETTO:+0100
TZNAME:CET
DTSTART:20201025T010000
END:STANDARD
END:VTIMEZONE
BEGIN:VEVENT
DTSTART;TZID=Europe/Berlin:20200323T140000
DTEND;TZID=Europe/Berlin:20200323T170000
DTSTAMP:20260425T054937
CREATED:20200227T225615Z
LAST-MODIFIED:20200318T191111Z
UID:2053-1584972000-1584982800@dresden-gruna.de
SUMMARY:***ABGESAGT/VERSCHOBEN*** Voneinander lernen - Wie Ältere sich im digitalen Zeitalter gegenseitig unterrichten
DESCRIPTION:*** Wann die Veranstaltung stattfinden wird\, erfährst Du in den kommenden Wochen. Dank für dein Verständnis! *** \n  \nEin Lernangebot vom Medienzentrum der TU Dresden im Rahmen der Gesprächsreihe „Mit Lust und Inspiration in den Ruhestand“ von AWO Kompetenzzentrum für den Übergang in den Ruhestand (KÜR) & INKLUSIVE Senioren. \nDas (Weiter)lernen im Alter ist ein wichtiger Baustein für Persönlichkeitsentwicklung\, Teilhabe und unser soziales Miteinander. Doch wie sollte das Lernen nach dem Berufsausstieg gestaltet sein? Wie macht es Freude? Was sollte man lernen? Und wie kann es gemeinsam organisiert werden? Diese und weitere Fragen besprechen wir gemeinsam mit Kristina Barczik von der Technischen Universität Dresden. Sie stellt außerdem das Projekt „Gemeinsam in die digitale Welt“ vor: Technikaffine Ältere\, die motiviert sind\, ehrenamtlich tätig zu sein\, werden als Experten ausgebildet. In der Rolle als geschulte Trainer stehen sie Älteren in ihrem Umfeld als Ansprechpartner zur Verfügung. Sie schulen diese im Umgang mit Smartphones und Tablets und zeigen auf\, wie die Geräte alltagsrelevant zu nutzen sind. Die Weiterführung dieser Lehr-Lern-Treffs ist im Rahmen von Stammtischen geplant.
URL:https://dresden-gruna.de/event/voneinander-lernen-wie-aeltere-sich-im-digitalen-zeitalter-gegenseitig-unterrichten/
LOCATION:Bürger-Treff „Grunaer Aue“ Winterbergstr.31c\, 01277 Dresden\, Winterbergstraße 31c\, Dresden\, 01277\, Deutschland
CATEGORIES:Projekte und Aktionen
ORGANIZER;CN="Sigus e.V.":MAILTO:sigus-dd@t-online.de
END:VEVENT
END:VCALENDAR