BEGIN:VCALENDAR
VERSION:2.0
PRODID:-//In Gruna leben e.V. - ECPv6.8.3//NONSGML v1.0//EN
CALSCALE:GREGORIAN
METHOD:PUBLISH
X-ORIGINAL-URL:https://dresden-gruna.de
X-WR-CALDESC:Veranstaltungen für In Gruna leben e.V.
REFRESH-INTERVAL;VALUE=DURATION:PT1H
X-Robots-Tag:noindex
X-PUBLISHED-TTL:PT1H
BEGIN:VTIMEZONE
TZID:Europe/Berlin
BEGIN:DAYLIGHT
TZOFFSETFROM:+0100
TZOFFSETTO:+0200
TZNAME:CEST
DTSTART:20200329T010000
END:DAYLIGHT
BEGIN:STANDARD
TZOFFSETFROM:+0200
TZOFFSETTO:+0100
TZNAME:CET
DTSTART:20201025T010000
END:STANDARD
END:VTIMEZONE
BEGIN:VEVENT
DTSTART;TZID=Europe/Berlin:20200304T180000
DTEND;TZID=Europe/Berlin:20200304T200000
DTSTAMP:20260425T054840
CREATED:20200219T232702Z
LAST-MODIFIED:20210329T095928Z
UID:2006-1583344800-1583352000@dresden-gruna.de
SUMMARY:ACHTUNG: VERSCHOBEN! Georgien – Perle des Kaukasus
DESCRIPTION:Achtung: Die Veranstalter müssen aus gesundheitlichen Gründen den internationalen Kulturmittwoch auf einen späteren Zeitpunkt verschieben. Der neue Termin wird hier bekannt gegeben. \nEin internationaler Kulturmittwoch mit Eter Hachmann und Freunden zu Geschichten und Gerichten aus dieser wunderbaren Kultur der Sinnesfreude und des langen Lebens! \n(Eine Veranstaltung in Zusammenarbeit mit Friedrich-Ebert-Stiftung Sachsen) \nAnmeldung empfohlen!
URL:https://dresden-gruna.de/event/georgien-perle-des-kaukasus/
LOCATION:Bürger-Treff „Grunaer Aue“ Winterbergstr.31c\, 01277 Dresden\, Winterbergstraße 31c\, Dresden\, 01277\, Deutschland
CATEGORIES:Kultur am (4.) Mittwoch,Projekte und Aktionen
ATTACH;FMTTYPE=image/jpeg:https://dresden-gruna.de/wp-content/uploads/2020/02/tbilisi-4680593_640.jpg
ORGANIZER;CN="'In Gruna leben' e.V.":MAILTO:post@dresden-gruna.de
END:VEVENT
END:VCALENDAR