BEGIN:VCALENDAR
VERSION:2.0
PRODID:-//In Gruna leben e.V. - ECPv6.8.3//NONSGML v1.0//EN
CALSCALE:GREGORIAN
METHOD:PUBLISH
X-ORIGINAL-URL:https://dresden-gruna.de
X-WR-CALDESC:Veranstaltungen für In Gruna leben e.V.
REFRESH-INTERVAL;VALUE=DURATION:PT1H
X-Robots-Tag:noindex
X-PUBLISHED-TTL:PT1H
BEGIN:VTIMEZONE
TZID:Europe/Berlin
BEGIN:DAYLIGHT
TZOFFSETFROM:+0100
TZOFFSETTO:+0200
TZNAME:CEST
DTSTART:20190331T010000
END:DAYLIGHT
BEGIN:STANDARD
TZOFFSETFROM:+0200
TZOFFSETTO:+0100
TZNAME:CET
DTSTART:20191027T010000
END:STANDARD
END:VTIMEZONE
BEGIN:VEVENT
DTSTART;TZID=Europe/Berlin:20191118T140000
DTEND;TZID=Europe/Berlin:20191118T153000
DTSTAMP:20260425T123857
CREATED:20191024T211848Z
LAST-MODIFIED:20191024T211848Z
UID:1800-1574085600-1574091000@dresden-gruna.de
SUMMARY:Berufsausstieg und Freiwilligenarbeit – Ein guter Weg zum guten Leben?
DESCRIPTION:Berufsausstieg und Freiwilligenarbeit – Ein guter Weg zum guten Leben? Informationsgespräch mit Mechthild Fliegel  (Paritätische Freiwilligendienste Sachsen gGmbH) und Tom Motzek vom AWO Kompetenzzentrum für den Übergang in den Ruhestand (KÜR)
URL:https://dresden-gruna.de/event/berufsausstieg-und-freiwilligenarbeit-ein-guter-weg-zum-guten-leben/
LOCATION:Bürger-Treff „Grunaer Aue“ Winterbergstr.31c\, 01277 Dresden\, Winterbergstraße 31c\, Dresden\, 01277\, Deutschland
CATEGORIES:Projekte und Aktionen
ORGANIZER;CN="Sigus e.V.":MAILTO:sigus-dd@t-online.de
END:VEVENT
BEGIN:VEVENT
DTSTART;TZID=Europe/Berlin:20191118T153000
DTEND;TZID=Europe/Berlin:20191118T153000
DTSTAMP:20260425T123857
CREATED:20191024T212011Z
LAST-MODIFIED:20191024T212011Z
UID:1802-1574091000-1574091000@dresden-gruna.de
SUMMARY:Was wirklich mit zunehmenden Lebensjahren zählt?
DESCRIPTION:Monatsstammtisch GRAUE ZELLEN
URL:https://dresden-gruna.de/event/was-wirklich-mit-zunehmenden-lebensjahren-zaehlt/
LOCATION:Bürger-Treff „Grunaer Aue“ Winterbergstr.31c\, 01277 Dresden\, Winterbergstraße 31c\, Dresden\, 01277\, Deutschland
CATEGORIES:Projekte und Aktionen
ORGANIZER;CN="Sigus e.V.":MAILTO:sigus-dd@t-online.de
END:VEVENT
END:VCALENDAR