BEGIN:VCALENDAR
VERSION:2.0
PRODID:-//In Gruna leben e.V. - ECPv6.8.3//NONSGML v1.0//EN
CALSCALE:GREGORIAN
METHOD:PUBLISH
X-ORIGINAL-URL:https://dresden-gruna.de
X-WR-CALDESC:Veranstaltungen für In Gruna leben e.V.
REFRESH-INTERVAL;VALUE=DURATION:PT1H
X-Robots-Tag:noindex
X-PUBLISHED-TTL:PT1H
BEGIN:VTIMEZONE
TZID:Europe/Berlin
BEGIN:DAYLIGHT
TZOFFSETFROM:+0100
TZOFFSETTO:+0200
TZNAME:CEST
DTSTART:20190331T010000
END:DAYLIGHT
BEGIN:STANDARD
TZOFFSETFROM:+0200
TZOFFSETTO:+0100
TZNAME:CET
DTSTART:20191027T010000
END:STANDARD
END:VTIMEZONE
BEGIN:VEVENT
DTSTART;TZID=Europe/Berlin:20191030T180000
DTEND;TZID=Europe/Berlin:20191030T180000
DTSTAMP:20260425T123750
CREATED:20191014T212335Z
LAST-MODIFIED:20191014T212914Z
UID:1791-1572458400-1572458400@dresden-gruna.de
SUMMARY:Vernissage "Martin Anger"
DESCRIPTION:Martin Anger (1906 – 1943)\n– Aquarelle und Drucke –\nVernissage\, musikalisch umrahmt durch Tara Müller \nMartin Anger\, geboren am 23. Oktober 1906\, hat seine Kindheit und Jugendzeit in Brandis verlebt\, wo sein Vater Pfarrer war. Dieser meinte\, er solle erst einen „ordentlichen“ Beruf erlernen\, dann könne er Maler werden. So studierte er Kunst und Geographie in Leipzig und Dresden\, um als Lehrer zu arbeiten\, sah das\naber nur als notwendigen Broterwerb an\, fühlte sich immer mehr als Maler. Das Werk des akademisch ausgebildeten Malers Martin Anger ist geprägt von der Dresdner Malkultur. Mit den Dresdner Malern Lea und Hans Grundig\, Hans Jüchser\, Willy Illmer und Otto Dix\, einem seiner Lehrer\, war er gut bekannt.\nMartin Anger hat – vor allem während der Kriegsjahre – Landschaften gemalt\, aber auch Porträts\, Akte und Karikaturen.\nIm Dezember 1939 wurde er zur Wehrmacht eingezogen und ist seit Dezember 1943 in der Nähe von Witebsk vermisst.\nDas Malen\, aber auch das Schreiben von Gedichten hat Martin Anger geholfen\, die schlimmen Erlebnisse der Kriegsjahre „zeitweise zu vergessen“. Dies wird besonders deutlich in seinem letzten Brief an seine Ehefrau vom 12. Dezember 1943: „Schicke mir blitzschnellstens alle erreichbaren Aquarellfarben … zwei große Pinsel und wenn möglich einen Farbkasten. Ich warte darauf\, ich brauche alles dringendst zur Erhaltung meines Gleichgewichts.“\nErst Ende April 1944 erhielt seine Ehefrau eine große Holzkiste aus Russland. Es waren die letzten Bilder Martin Angers\, die nach einer langen Odyssee doch noch in Dresden ankamen.\nBis zu ihrem Lebensende hat seine Ehefrau nicht verwunden\, dass Martin Anger nicht aus dem Krieg zurückkehrte. Seine Tochter erinnert sich\, dass immer Kleidung und Malsachen bereitlagen\, damit er sich sofort wieder wie zu Hause fühlen sollte\, falls er doch noch zurückkäme.\nNeben einigen Bildern\, vor allem Aquarelle und Grafiken\, wird vom 30. Oktober bis 31. Dezember 2019 auch ein von seiner Tochter zusammengestellter kleiner Gedichtband präsentiert.
URL:https://dresden-gruna.de/event/vernissage-martin-anger/
LOCATION:Bürger-Treff „Grunaer Aue“ Winterbergstr.31c\, 01277 Dresden\, Winterbergstraße 31c\, Dresden\, 01277\, Deutschland
CATEGORIES:Projekte und Aktionen
ATTACH;FMTTYPE=image/jpeg:https://dresden-gruna.de/wp-content/uploads/2019/10/Martin-Anger.jpg
ORGANIZER;CN="'In Gruna leben' e.V.":MAILTO:post@dresden-gruna.de
END:VEVENT
END:VCALENDAR