BEGIN:VCALENDAR
VERSION:2.0
PRODID:-//In Gruna leben e.V. - ECPv6.8.3//NONSGML v1.0//EN
CALSCALE:GREGORIAN
METHOD:PUBLISH
X-ORIGINAL-URL:https://dresden-gruna.de
X-WR-CALDESC:Veranstaltungen für In Gruna leben e.V.
REFRESH-INTERVAL;VALUE=DURATION:PT1H
X-Robots-Tag:noindex
X-PUBLISHED-TTL:PT1H
BEGIN:VTIMEZONE
TZID:Europe/Berlin
BEGIN:DAYLIGHT
TZOFFSETFROM:+0100
TZOFFSETTO:+0200
TZNAME:CEST
DTSTART:20190331T010000
END:DAYLIGHT
BEGIN:STANDARD
TZOFFSETFROM:+0200
TZOFFSETTO:+0100
TZNAME:CET
DTSTART:20191027T010000
END:STANDARD
END:VTIMEZONE
BEGIN:VEVENT
DTSTART;TZID=Europe/Berlin:20191024T170000
DTEND;TZID=Europe/Berlin:20191024T200000
DTSTAMP:20260425T143148
CREATED:20180320T150527Z
LAST-MODIFIED:20180320T150527Z
UID:1301-1571936400-1571947200@dresden-gruna.de
SUMMARY:RepairCafé Gruna
DESCRIPTION:Reparieren\, tüfteln\, Kaffee trinken \nNachbarn helfen Nachbarn: RepairCafé Gruna\nIm RepairCafé Gruna können Sie defekte Gebrauchsgegenstände unter fachkundiger Anleitung reparieren. Oder Ihren Nachbarn dabei helfen. Wo: Streetwork-Büro „Sofa9“ in der Rosenbergstraße 12\, 01277 Dresden. \nSie möchten defekte Gegenstände reparieren anstatt sie wegzuwerfen? Sie benötigen Werkzeug und fachkundige Unterstützung? Sie tauschen sich gern bei einem Stück Kuchen mit Ihren Nachbarn aus? Dann sind Sie im RepairCafé Gruna herzlich willkommen. Ob Ladekabel oder Fernseher; Sie können alle beweglichen Gegenstände mitbringen\, die sich zum RepairCafé transportieren lassen. Ausgeschlossen sind Fahrräder und sperrige Haushaltsgroßgeräte wie Waschmaschinen und Kühlschränke. \nReparaturtalente und Kuchenspenden willkommen\nDas RepairCafé Gruna ist eine ehrenamtliche Initiative\, die durch Reparaturen Ressourcen schonen möchte. Engagierte Reparaturtalente\, die ihren Nachbarn beim Reparieren helfen möchten\, können sich direkt im RepairCafé melden. Falls Sie das RepairCafé Gruna mit einer Kuchenspende unterstützen möchten\, teilen Sie dies bitte kurz telefonisch unter Tel: 0351 2632138 oder sigus-dd@t-online.de mit. \n \nKooperationsprojekt\nDas RepairCafé Gruna wird ermöglicht durch die Kooperation der Interessengemeinschaft „in Gruna leben“ c/o Sigus e.V.  mit dem Netzwerk RepairCafé Dresden-Freital und dem Streetwork-Büro Sofa9. . \n \nKontakt Projektkoordination RepairCafé Gruna:\ntanja@dresden-gruna.de \n  \n  \n 
URL:https://dresden-gruna.de/event/sechstes-repaircafe-gruna-2019-10-24/
LOCATION:Sofa9\, Rosenberstraße 12\, Dresden\, 01277
CATEGORIES:RepairCafé
ATTACH;FMTTYPE=image/png:https://dresden-gruna.de/wp-content/uploads/2018/03/repaircafe-gruna.png
ORGANIZER;CN="'In Gruna leben' e.V.":MAILTO:post@dresden-gruna.de
END:VEVENT
BEGIN:VEVENT
DTSTART;TZID=Europe/Berlin:20191024T190000
DTEND;TZID=Europe/Berlin:20191024T210000
DTSTAMP:20260425T143148
CREATED:20191109T105659Z
LAST-MODIFIED:20200618T125016Z
UID:1782-1571943600-1571950800@dresden-gruna.de
SUMMARY:Literatur in Gruna: Ein Lesekreis für Alle
DESCRIPTION:Du liest gerne\, kommst aber irgendwie nie dazu? Dir fehlt der Anstoß\, mal wieder ein richtig gutes Buch zu lesen? Dann mach doch bei unserem Lesekreis mit!\n\nIn entspannter Runde trifft man sich etwa monatlich\, um ein zuvor festgelegtes Buch zu besprechen\, sich darüber auszutauschen und einen entspannten Abend miteinander zu verbringen. Was erstmal wie Schule klingt\, soll gar nicht so sein. Also\, trau dich! Denn: Jeder ist willkommen! 🙂 \n\nTreff ist immer in der Grunaer Aue (Winterbergstraße 31c). \n\nDu hast Interesse? Dann melde dich hier für den Newsletter mit allen Informationen an!
URL:https://dresden-gruna.de/event/literatur-in-gruna-ein-lesekreis-fuer-alle/
LOCATION:Bürger-Treff „Grunaer Aue“ Winterbergstr.31c\, 01277 Dresden\, Winterbergstraße 31c\, Dresden\, 01277\, Deutschland
ORGANIZER;CN="'In Gruna leben' e.V.":MAILTO:post@dresden-gruna.de
END:VEVENT
END:VCALENDAR