BEGIN:VCALENDAR
VERSION:2.0
PRODID:-//In Gruna leben e.V. - ECPv6.8.3//NONSGML v1.0//EN
CALSCALE:GREGORIAN
METHOD:PUBLISH
X-ORIGINAL-URL:https://dresden-gruna.de
X-WR-CALDESC:Veranstaltungen für In Gruna leben e.V.
REFRESH-INTERVAL;VALUE=DURATION:PT1H
X-Robots-Tag:noindex
X-PUBLISHED-TTL:PT1H
BEGIN:VTIMEZONE
TZID:Europe/Berlin
BEGIN:DAYLIGHT
TZOFFSETFROM:+0100
TZOFFSETTO:+0200
TZNAME:CEST
DTSTART:20190331T010000
END:DAYLIGHT
BEGIN:STANDARD
TZOFFSETFROM:+0200
TZOFFSETTO:+0100
TZNAME:CET
DTSTART:20191027T010000
END:STANDARD
END:VTIMEZONE
BEGIN:VEVENT
DTSTART;VALUE=DATE:20190915
DTEND;VALUE=DATE:20191014
DTSTAMP:20260425T155913
CREATED:20190826T221535Z
LAST-MODIFIED:20190826T221535Z
UID:1681-1568505600-1571011199@dresden-gruna.de
SUMMARY:Grunaer Nachbarschaftstage
DESCRIPTION:Willkommen zu den dritten Grunaer Nachbarschaftstagen. \nErlebt vom 15.9. bis 13.10. Kultur\, Bürgerforen\, Vorträge\, Vorstellungen von Firmen und Initiativen und vieles mehr!
URL:https://dresden-gruna.de/event/grunaer-nachbarschaftstage/
CATEGORIES:Feste,Planungs- und Absprachetreffen,Projekte und Aktionen
END:VEVENT
BEGIN:VEVENT
DTSTART;TZID=Europe/Berlin:20191009T100000
DTEND;TZID=Europe/Berlin:20191009T110000
DTSTAMP:20260425T155913
CREATED:20190826T232252Z
LAST-MODIFIED:20190826T232252Z
UID:1742-1570615200-1570618800@dresden-gruna.de
SUMMARY:Damals war’s
DESCRIPTION:Gesprächsrunde mit Harald Helbig: Wir werfen einen Blick auf nachbarschaftliche Beziehungen und gegenseitige Hilfen im Laufe der Zeit.\n \n\n\n\n\nIn einer lockeren Gesprächsatmosphäre tauscht er sich mit den Teilnehmern einmal im Monat zu einem bestimmten Thema aus. Diesmal geht es um die Nachbarschaft:Wir werfen einen Blick auf nachbarschaftliche Beziehungen und gegenseitige Hilfen. Im Laufe der Zeit hat sich vieles verändert. Was war gut\, was gilt es zu bewahren und was gibt es Neues?
URL:https://dresden-gruna.de/event/damals-wars/
LOCATION:fidelio\, Papstdorfer Str. 25\, Dresden\, 01277\, Deutschland
CATEGORIES:Projekte und Aktionen
END:VEVENT
BEGIN:VEVENT
DTSTART;TZID=Europe/Berlin:20191009T160000
DTEND;TZID=Europe/Berlin:20191009T190000
DTSTAMP:20260425T155913
CREATED:20190827T204529Z
LAST-MODIFIED:20190827T204529Z
UID:1751-1570636800-1570647600@dresden-gruna.de
SUMMARY:Tag der offenen Tür im Sofa 9
DESCRIPTION:Das sofa 9 wird am 9. Oktober zwischen 16-19 Uhr seine Pforten und Fenster öffnen und sich mit allerlei (jugendlichem) Spaß vor dem Sofa breit machen.
URL:https://dresden-gruna.de/event/tag-der-offenen-tuer-im-sofa-9/
LOCATION:Sofa9\, Rosenberstraße 12\, Dresden\, 01277
CATEGORIES:Projekte und Aktionen
ORGANIZER;CN="Streetwork-B%C3%BCro Sofa9":MAILTO:sofa9@roter-baum.de
END:VEVENT
END:VCALENDAR