BEGIN:VCALENDAR
VERSION:2.0
PRODID:-//In Gruna leben e.V. - ECPv6.8.3//NONSGML v1.0//EN
CALSCALE:GREGORIAN
METHOD:PUBLISH
X-ORIGINAL-URL:https://dresden-gruna.de
X-WR-CALDESC:Veranstaltungen für In Gruna leben e.V.
REFRESH-INTERVAL;VALUE=DURATION:PT1H
X-Robots-Tag:noindex
X-PUBLISHED-TTL:PT1H
BEGIN:VTIMEZONE
TZID:Europe/Berlin
BEGIN:DAYLIGHT
TZOFFSETFROM:+0100
TZOFFSETTO:+0200
TZNAME:CEST
DTSTART:20190331T010000
END:DAYLIGHT
BEGIN:STANDARD
TZOFFSETFROM:+0200
TZOFFSETTO:+0100
TZNAME:CET
DTSTART:20191027T010000
END:STANDARD
END:VTIMEZONE
BEGIN:VEVENT
DTSTART;VALUE=DATE:20190915
DTEND;VALUE=DATE:20191014
DTSTAMP:20260425T161825
CREATED:20190826T221535Z
LAST-MODIFIED:20190826T221535Z
UID:1681-1568505600-1571011199@dresden-gruna.de
SUMMARY:Grunaer Nachbarschaftstage
DESCRIPTION:Willkommen zu den dritten Grunaer Nachbarschaftstagen. \nErlebt vom 15.9. bis 13.10. Kultur\, Bürgerforen\, Vorträge\, Vorstellungen von Firmen und Initiativen und vieles mehr!
URL:https://dresden-gruna.de/event/grunaer-nachbarschaftstage/
CATEGORIES:Feste,Planungs- und Absprachetreffen,Projekte und Aktionen
END:VEVENT
BEGIN:VEVENT
DTSTART;TZID=Europe/Berlin:20190926T160000
DTEND;TZID=Europe/Berlin:20190926T173000
DTSTAMP:20260425T161825
CREATED:20190826T224010Z
LAST-MODIFIED:20190919T212254Z
UID:1706-1569513600-1569519000@dresden-gruna.de
SUMMARY:Demo und Mobilitäts-Bürger-Werkstatt
DESCRIPTION:Demo- und Mobilitäts-Bürger-Werkstatt in Gruna am 26. September von 16 bis 17.30 Uhr\nzum Engpass Rosenbergstraße/Ladenzeile am Ärztehaus neben dem Rothermundtpark. \nEine Aktion im Rahmen der 3. Grunaer Nachbarschaftstage – Kommt vorbei und lasst uns die Straße beleben: Bei Musik und Spiel\, wie z.B. Straßenschach und vielen anderen Aktionen. \nDie Rosenbergstraße neben dem Ärztehaus wird am 26.September von 16 bis 17.30 Uhr für Autos gesperrt sein.\nWir wollen uns diese Stelle neu vorstellen. Dabei sind Planungsideen aus dem städtebaulichen Wettbewerb 2017\, aktuelle Karten und viele Stifte zum skizzieren\, Fachleute und Anwohner. Außerdem dabei  ADFC und TeilAuto. Die GRÜNEN Dresden sind ebenfalls mit einem Verkehrsquiz für Kinder vor Ort. \nMit der Aktion wollen wir auf die unzureichende Verkehrssicherheit an dieser Stelle aufmerksam machen\, mit den Anwohnern in Gespräch kommen\, aber auch darüber hinaus denken: Wie Stadträume für alle gestaltet werden können. Vor Ort werden wir Ideen und Wünsche der verschiedenen Nutzer sammeln und vorhandene Vorschläge aus Beiträgen des städtebaulichen Wettbewerbs für Gruna aus dem Jahr 2017 diskutieren. Die Ergebnisse werden dokumentiert und sollen an geeigneter Stelle der Verwaltung und Planungsstellen präsentiert werden. Wir freuen uns auf zahlreiche Gespräche\, Ideen und Meinungen vor Ort.\n\n \nHintergrund\nDie Querungsstelle an der Rosenbergstrasse ist für Fußgänger und Radfahrer aktuell sehr gefährlich:\n– Viele Autofahrer nutzen diese Wohnstraße als Abkürzung statt über die Zwinglistraße zu fahren\n– Schlechte Einsehbarkeit der Querung durch parkende Autos\, Sträucher und Zäune\n– Hier führt eine inoffizielle Ost-West-Hauptroute für Radfahrer entlang (Winterbergstraße\, Bodenbacher Straße\, Hepkestraße und Schandauer Straße sind wegen zu viel Verkehr und zu kleinen\, alternierender Radschutzstreifen unbeliebt.)\n– Fußgänger und Radfahrer queren die Straße sehr häufig\, denn in unmittelbarer Umgebung gibt es: ein Ärztehaus\, eine Ladenzeile\, einen Park mit Spielplatz und Skateanlage\, eine Grundschule und mehrere Kitas.
URL:https://dresden-gruna.de/event/demo-und-mobilitaets-buerger-werkstatt/
CATEGORIES:Planungs- und Absprachetreffen,Projekte und Aktionen
ATTACH;FMTTYPE=image/jpeg:https://dresden-gruna.de/wp-content/uploads/2019/08/Skizze-Versammlungsort-e1568796532929.jpg
ORGANIZER;CN="'In Gruna leben' e.V.":MAILTO:post@dresden-gruna.de
END:VEVENT
BEGIN:VEVENT
DTSTART;TZID=Europe/Berlin:20190926T170000
DTEND;TZID=Europe/Berlin:20190926T200000
DTSTAMP:20260425T161825
CREATED:20180320T150527Z
LAST-MODIFIED:20180320T150527Z
UID:1300-1569517200-1569528000@dresden-gruna.de
SUMMARY:RepairCafé Gruna
DESCRIPTION:Reparieren\, tüfteln\, Kaffee trinken \nNachbarn helfen Nachbarn: RepairCafé Gruna\nIm RepairCafé Gruna können Sie defekte Gebrauchsgegenstände unter fachkundiger Anleitung reparieren. Oder Ihren Nachbarn dabei helfen. Wo: Streetwork-Büro „Sofa9“ in der Rosenbergstraße 12\, 01277 Dresden. \nSie möchten defekte Gegenstände reparieren anstatt sie wegzuwerfen? Sie benötigen Werkzeug und fachkundige Unterstützung? Sie tauschen sich gern bei einem Stück Kuchen mit Ihren Nachbarn aus? Dann sind Sie im RepairCafé Gruna herzlich willkommen. Ob Ladekabel oder Fernseher; Sie können alle beweglichen Gegenstände mitbringen\, die sich zum RepairCafé transportieren lassen. Ausgeschlossen sind Fahrräder und sperrige Haushaltsgroßgeräte wie Waschmaschinen und Kühlschränke. \nReparaturtalente und Kuchenspenden willkommen\nDas RepairCafé Gruna ist eine ehrenamtliche Initiative\, die durch Reparaturen Ressourcen schonen möchte. Engagierte Reparaturtalente\, die ihren Nachbarn beim Reparieren helfen möchten\, können sich direkt im RepairCafé melden. Falls Sie das RepairCafé Gruna mit einer Kuchenspende unterstützen möchten\, teilen Sie dies bitte kurz telefonisch unter Tel: 0351 2632138 oder sigus-dd@t-online.de mit. \n \nKooperationsprojekt\nDas RepairCafé Gruna wird ermöglicht durch die Kooperation der Interessengemeinschaft „in Gruna leben“ c/o Sigus e.V.  mit dem Netzwerk RepairCafé Dresden-Freital und dem Streetwork-Büro Sofa9. . \n \nKontakt Projektkoordination RepairCafé Gruna:\ntanja@dresden-gruna.de \n  \n  \n 
URL:https://dresden-gruna.de/event/sechstes-repaircafe-gruna-2019-09-26/
LOCATION:Sofa9\, Rosenberstraße 12\, Dresden\, 01277
CATEGORIES:RepairCafé
ATTACH;FMTTYPE=image/png:https://dresden-gruna.de/wp-content/uploads/2018/03/repaircafe-gruna.png
ORGANIZER;CN="'In Gruna leben' e.V.":MAILTO:post@dresden-gruna.de
END:VEVENT
BEGIN:VEVENT
DTSTART;TZID=Europe/Berlin:20190926T180000
DTEND;TZID=Europe/Berlin:20190926T193000
DTSTAMP:20260425T161825
CREATED:20190826T224148Z
LAST-MODIFIED:20190826T224148Z
UID:1709-1569520800-1569526200@dresden-gruna.de
SUMMARY:Wie kann ich meine Nachbarn neu sehen? (GFK Teil 1)
DESCRIPTION:Das Konzept der Gewaltfreien Kommunikation (GFK) nach Rosenberg\, Bedürfnisorientierte Kommunikation\, die weiter führt – nicht nur in Konfliktsituationen \n\n\n\n\nWas für ein Name – einfach ekelig. Ich spreche doch nicht gewalttätig? In welche Schublade will man mich und unsere Nachbarschaft jetzt schon wieder packen? Gerald Hüther\, weltweit anerkannter deutscher Neurobiologe und Gesellschaftsforscher\, nennt GFK jedoch „die Speerspitze gesellschaftlicher Veränderung“. Es scheint also was dran zu sein. Unsere 1\,5 gemeinsamen Stunden werden aus einer Mischung aus Theorie und Praxis bestehen. Bitte Neugierde mitbringen! ein Angebot von https://gesund-und-gemeinsam.de
URL:https://dresden-gruna.de/event/wie-kann-ich-meine-nachbarn-neu-sehen-gfk-teil-1/
LOCATION:Bürger-Treff „Grunaer Aue“ Winterbergstr.31c\, 01277 Dresden\, Winterbergstraße 31c\, Dresden\, 01277\, Deutschland
CATEGORIES:Projekte und Aktionen
ORGANIZER;CN="'In Gruna leben' e.V.":MAILTO:post@dresden-gruna.de
END:VEVENT
END:VCALENDAR