BEGIN:VCALENDAR
VERSION:2.0
PRODID:-//In Gruna leben e.V. - ECPv6.8.3//NONSGML v1.0//EN
CALSCALE:GREGORIAN
METHOD:PUBLISH
X-ORIGINAL-URL:https://dresden-gruna.de
X-WR-CALDESC:Veranstaltungen für In Gruna leben e.V.
REFRESH-INTERVAL;VALUE=DURATION:PT1H
X-Robots-Tag:noindex
X-PUBLISHED-TTL:PT1H
BEGIN:VTIMEZONE
TZID:Europe/Berlin
BEGIN:DAYLIGHT
TZOFFSETFROM:+0100
TZOFFSETTO:+0200
TZNAME:CEST
DTSTART:20190331T010000
END:DAYLIGHT
BEGIN:STANDARD
TZOFFSETFROM:+0200
TZOFFSETTO:+0100
TZNAME:CET
DTSTART:20191027T010000
END:STANDARD
END:VTIMEZONE
BEGIN:VEVENT
DTSTART;VALUE=DATE:20190915
DTEND;VALUE=DATE:20191014
DTSTAMP:20260425T161719
CREATED:20190826T221535Z
LAST-MODIFIED:20190826T221535Z
UID:1681-1568505600-1571011199@dresden-gruna.de
SUMMARY:Grunaer Nachbarschaftstage
DESCRIPTION:Willkommen zu den dritten Grunaer Nachbarschaftstagen. \nErlebt vom 15.9. bis 13.10. Kultur\, Bürgerforen\, Vorträge\, Vorstellungen von Firmen und Initiativen und vieles mehr!
URL:https://dresden-gruna.de/event/grunaer-nachbarschaftstage/
CATEGORIES:Feste,Planungs- und Absprachetreffen,Projekte und Aktionen
END:VEVENT
BEGIN:VEVENT
DTSTART;TZID=Europe/Berlin:20190919T143000
DTEND;TZID=Europe/Berlin:20190919T173000
DTSTAMP:20260425T161719
CREATED:20190826T221259Z
LAST-MODIFIED:20190826T221259Z
UID:1678-1568903400-1568914200@dresden-gruna.de
SUMMARY:Arabischer Nachmittag
DESCRIPTION:mit Bauchtanz\, Hennabemalung und arabischen Spezialitäten. Für 5 Euro könnt Ihr Euch kunstvoll mit Henna bemalen lassen. Für das Essen freuen wir uns über eine Spende.
URL:https://dresden-gruna.de/event/arabischer-nachmittag/
LOCATION:Eltern-Kind-Büro\, Rosenbergstr. 10\, Dresden\, 01277\, Deutschland
CATEGORIES:Projekte und Aktionen
END:VEVENT
BEGIN:VEVENT
DTSTART;TZID=Europe/Berlin:20190919T150000
DTEND;TZID=Europe/Berlin:20190919T150000
DTSTAMP:20260425T161719
CREATED:20190826T221754Z
LAST-MODIFIED:20190826T221937Z
UID:1683-1568905200-1568905200@dresden-gruna.de
SUMMARY:Autorenlesung mit Christine von Brühl
DESCRIPTION:“Gerade dadurch sind Sie mir lieb – Theodor Fontanes Frauen” \n\n\n\n\nAus der Reihe „Literatur am Nachmittag“
URL:https://dresden-gruna.de/event/gerade-dadurch-sind-sie-mir-lieb-theodor-fontanes-frauen/
LOCATION:Bibliothek Gruna\, Papdtdorfer Str. 13\, Dresden\, 01277\, Deutschland
CATEGORIES:Projekte und Aktionen
END:VEVENT
BEGIN:VEVENT
DTSTART;TZID=Europe/Berlin:20190919T170000
DTEND;TZID=Europe/Berlin:20190919T170000
DTSTAMP:20260425T161719
CREATED:20190826T222147Z
LAST-MODIFIED:20190826T222147Z
UID:1689-1568912400-1568912400@dresden-gruna.de
SUMMARY:Lieblingsorte zwischen Falkensteinplatz und Hepkeplatz
DESCRIPTION:Eine klingende Ortsbesichtigung mit „Männer unter Ton“ \n\n\n\n\nBesucht werden vor allem die Wohnhöfe des Viertels sowie der Hepkeplatz als in der Nachbarschaftsbefragung genannte „Lieblingsorte in Gruna“. Den Rundgang durch die Wohnhöfe und Plätze verbinden wir mit einem Gesang im jeweiligen Hof bzw. auf dem jeweiligen Platz\, was diesen zugleich als Klang- und resonanzraum gut zum Klingen bringen wird – ein Mehr-Sinne-Erlebnis für alle Altersgruppen. \nStart: Falkensteinplatz 6
URL:https://dresden-gruna.de/event/lieblingsorte-zwischen-falkensteinplatz-und-hepkeplatz/
CATEGORIES:Projekte und Aktionen
ORGANIZER;CN="'In Gruna leben' e.V.":MAILTO:post@dresden-gruna.de
END:VEVENT
END:VCALENDAR