BEGIN:VCALENDAR
VERSION:2.0
PRODID:-//In Gruna leben e.V. - ECPv6.8.3//NONSGML v1.0//EN
CALSCALE:GREGORIAN
METHOD:PUBLISH
X-ORIGINAL-URL:https://dresden-gruna.de
X-WR-CALDESC:Veranstaltungen für In Gruna leben e.V.
REFRESH-INTERVAL;VALUE=DURATION:PT1H
X-Robots-Tag:noindex
X-PUBLISHED-TTL:PT1H
BEGIN:VTIMEZONE
TZID:Europe/Berlin
BEGIN:DAYLIGHT
TZOFFSETFROM:+0100
TZOFFSETTO:+0200
TZNAME:CEST
DTSTART:20190331T010000
END:DAYLIGHT
BEGIN:STANDARD
TZOFFSETFROM:+0200
TZOFFSETTO:+0100
TZNAME:CET
DTSTART:20191027T010000
END:STANDARD
END:VTIMEZONE
BEGIN:VEVENT
DTSTART;VALUE=DATE:20190915
DTEND;VALUE=DATE:20191014
DTSTAMP:20260425T161717
CREATED:20190826T221535Z
LAST-MODIFIED:20190826T221535Z
UID:1681-1568505600-1571011199@dresden-gruna.de
SUMMARY:Grunaer Nachbarschaftstage
DESCRIPTION:Willkommen zu den dritten Grunaer Nachbarschaftstagen. \nErlebt vom 15.9. bis 13.10. Kultur\, Bürgerforen\, Vorträge\, Vorstellungen von Firmen und Initiativen und vieles mehr!
URL:https://dresden-gruna.de/event/grunaer-nachbarschaftstage/
CATEGORIES:Feste,Planungs- und Absprachetreffen,Projekte und Aktionen
END:VEVENT
BEGIN:VEVENT
DTSTART;TZID=Europe/Berlin:20190918T110000
DTEND;TZID=Europe/Berlin:20190918T180000
DTSTAMP:20260425T161717
CREATED:20190826T220104Z
LAST-MODIFIED:20190826T220104Z
UID:1668-1568804400-1568829600@dresden-gruna.de
SUMMARY:Kreativ mit Ton - Tag der offenen Tür
DESCRIPTION:Schauen / Informieren / miteinander ins Gespräch kommen. \nInformationen über Werkstatt-\, Kurs- und sonstige Angebote.
URL:https://dresden-gruna.de/event/kreativ-mit-ton-tag-der-offenen-tuer/
LOCATION:Kreativ mit Ton\, Rosenbergstraße 10\, Dresden\, 01277\, Deutschland
CATEGORIES:Projekte und Aktionen
END:VEVENT
BEGIN:VEVENT
DTSTART;TZID=Europe/Berlin:20190918T160000
DTEND;TZID=Europe/Berlin:20190918T173000
DTSTAMP:20260425T161717
CREATED:20190826T220545Z
LAST-MODIFIED:20190826T220545Z
UID:1674-1568822400-1568827800@dresden-gruna.de
SUMMARY:Verkehrszählungsaktionsstand
DESCRIPTION:Mit einer Verkehrszählung wollen wir Anwohner und Nutzer auf den derzeitigen schwierigen Übergang über die Rosenbergstraße aufmerksam machen. \nDas Ziel: sicherer Übergang für Fußgänger und Radfahrer von der Papstdorfer Straße in den Rothermundtpark
URL:https://dresden-gruna.de/event/verkehrszaehlungsaktionsstand/
LOCATION:Rothermundtpark\, Dresden\, 01277\, Deutschland
CATEGORIES:Planungs- und Absprachetreffen,Projekte und Aktionen
ORGANIZER;CN="'In Gruna leben' e.V.":MAILTO:post@dresden-gruna.de
END:VEVENT
BEGIN:VEVENT
DTSTART;TZID=Europe/Berlin:20190918T160000
DTEND;TZID=Europe/Berlin:20190918T180000
DTSTAMP:20260425T161717
CREATED:20190826T220754Z
LAST-MODIFIED:20190826T220754Z
UID:1676-1568822400-1568829600@dresden-gruna.de
SUMMARY:Offene Thomaskirche mit Ausstellung
DESCRIPTION:Ausstellung zum Thema „Reformation im östlichen Europa – die böhmischen Länder“  \n\n\n\n\nEs ist eine zweisprachige Ausstellung\, deutsch und tschechisch.
URL:https://dresden-gruna.de/event/offene-thomaskirche-mit-ausstellung/
LOCATION:Thomaskirche\, Bodenbacher Str. 21\, Dresden\, 01277\, Deutschland
CATEGORIES:Projekte und Aktionen
ATTACH;FMTTYPE=image/jpeg:https://dresden-gruna.de/wp-content/uploads/2018/08/kirche-e1533757491554.jpg
ORGANIZER;CN="Evangelisch-Lutherische Kirchgemeinde Dresden Gruna-Seidnitz":MAILTO:pfarramt@kirche-gruna-seidnitz.net
END:VEVENT
BEGIN:VEVENT
DTSTART;TZID=Europe/Berlin:20190918T163000
DTEND;TZID=Europe/Berlin:20190918T163000
DTSTAMP:20260425T161717
CREATED:20190826T220233Z
LAST-MODIFIED:20190826T220233Z
UID:1672-1568824200-1568824200@dresden-gruna.de
SUMMARY:Nachmittag für Senioren mit Spielen und Kaffee und Kuchen
DESCRIPTION:Impulsthema: Der Freundliche – Portrait einer Person des Neuen Testaments. Ort: EKG\, Winterbergstraße 19\, 01277 Dresden; Um Anmeldung wird erbeten\, unter: 0351-2571182
URL:https://dresden-gruna.de/event/nachmittag-fuer-senioren-mit-spielen-und-kaffee-und-kuchen/
LOCATION:Evangelisch-Kirchliche Gemeinschaft\, Winterbergstr. 19\, Dresden\, 01277\, Deutschland
CATEGORIES:Projekte und Aktionen
END:VEVENT
END:VCALENDAR