BEGIN:VCALENDAR
VERSION:2.0
PRODID:-//In Gruna leben e.V. - ECPv6.8.3//NONSGML v1.0//EN
CALSCALE:GREGORIAN
METHOD:PUBLISH
X-ORIGINAL-URL:https://dresden-gruna.de
X-WR-CALDESC:Veranstaltungen für In Gruna leben e.V.
REFRESH-INTERVAL;VALUE=DURATION:PT1H
X-Robots-Tag:noindex
X-PUBLISHED-TTL:PT1H
BEGIN:VTIMEZONE
TZID:Europe/Berlin
BEGIN:DAYLIGHT
TZOFFSETFROM:+0100
TZOFFSETTO:+0200
TZNAME:CEST
DTSTART:20190331T010000
END:DAYLIGHT
BEGIN:STANDARD
TZOFFSETFROM:+0200
TZOFFSETTO:+0100
TZNAME:CET
DTSTART:20191027T010000
END:STANDARD
END:VTIMEZONE
BEGIN:VEVENT
DTSTART;VALUE=DATE:20190915
DTEND;VALUE=DATE:20191014
DTSTAMP:20260425T174217
CREATED:20190826T221535Z
LAST-MODIFIED:20190826T221535Z
UID:1681-1568505600-1571011199@dresden-gruna.de
SUMMARY:Grunaer Nachbarschaftstage
DESCRIPTION:Willkommen zu den dritten Grunaer Nachbarschaftstagen. \nErlebt vom 15.9. bis 13.10. Kultur\, Bürgerforen\, Vorträge\, Vorstellungen von Firmen und Initiativen und vieles mehr!
URL:https://dresden-gruna.de/event/grunaer-nachbarschaftstage/
CATEGORIES:Feste,Planungs- und Absprachetreffen,Projekte und Aktionen
END:VEVENT
BEGIN:VEVENT
DTSTART;TZID=Europe/Berlin:20190915T100000
DTEND;TZID=Europe/Berlin:20190915T113000
DTSTAMP:20260425T174217
CREATED:20190826T215016Z
LAST-MODIFIED:20190826T215016Z
UID:1660-1568541600-1568547000@dresden-gruna.de
SUMMARY:Stadtteilbezogener Fürbittengottesdienst mit parallelem Kinderprogramm
DESCRIPTION:
URL:https://dresden-gruna.de/event/stadtteilbezogener-fuerbittengottesdienst-mit-parallelem-kinderprogramm/
LOCATION:Evangelisch-Kirchliche Gemeinschaft\, Winterbergstr. 19\, Dresden\, 01277\, Deutschland
CATEGORIES:Projekte und Aktionen
END:VEVENT
BEGIN:VEVENT
DTSTART;TZID=Europe/Berlin:20190915T150000
DTEND;TZID=Europe/Berlin:20190915T170000
DTSTAMP:20260425T174217
CREATED:20190826T215321Z
LAST-MODIFIED:20190826T215321Z
UID:1662-1568559600-1568566800@dresden-gruna.de
SUMMARY:Von Woodstock nach Gruna – Wir feiern unseren Stadtteil! Eröffnungskonzert mit der Kommune Woodstock
DESCRIPTION:Nach 50 Jahren holen Dieter Beckert und sein Ensemble sowie der Montechori von der Montessorischule Huckepack „Love and Peace“ endlich nach Gruna. Mitsingen ist ausdrücklich erwünscht! Gleichzeitig öffnet das Sofa9 seine Türen und schaltet die Kaffeemaschine an.
URL:https://dresden-gruna.de/event/von-woodstock-nach-gruna-wir-feiern-unseren-stadtteil-eroeffnungskonzert-mit-der-kommune-woodstock/
LOCATION:Familienzentrum Pauline\, Papstdorfer Straße 41\, Dresden\, 01277\, Deutschland
CATEGORIES:Feste,Projekte und Aktionen
ORGANIZER;CN="'In Gruna leben' e.V.":MAILTO:post@dresden-gruna.de
END:VEVENT
END:VCALENDAR