BEGIN:VCALENDAR
VERSION:2.0
PRODID:-//In Gruna leben e.V. - ECPv6.8.3//NONSGML v1.0//EN
CALSCALE:GREGORIAN
METHOD:PUBLISH
X-ORIGINAL-URL:https://dresden-gruna.de
X-WR-CALDESC:Veranstaltungen für In Gruna leben e.V.
REFRESH-INTERVAL;VALUE=DURATION:PT1H
X-Robots-Tag:noindex
X-PUBLISHED-TTL:PT1H
BEGIN:VTIMEZONE
TZID:Europe/Berlin
BEGIN:DAYLIGHT
TZOFFSETFROM:+0100
TZOFFSETTO:+0200
TZNAME:CEST
DTSTART:20190331T010000
END:DAYLIGHT
BEGIN:STANDARD
TZOFFSETFROM:+0200
TZOFFSETTO:+0100
TZNAME:CET
DTSTART:20191027T010000
END:STANDARD
END:VTIMEZONE
BEGIN:VEVENT
DTSTART;TZID=Europe/Berlin:20190612T180000
DTEND;TZID=Europe/Berlin:20190612T210000
DTSTAMP:20260425T210842
CREATED:20190527T150442Z
LAST-MODIFIED:20190527T150442Z
UID:1426-1560362400-1560373200@dresden-gruna.de
SUMMARY:internationaler Erfahrungsaustausch "nachhaltige Mobilität"
DESCRIPTION:Über ein Programm der Heinrich-Böll-Stiftung e. V. werden 15 Verkehrs- und Stadtplaner aus Tschechien und der Slowakei im Bürger-Treff zu Gast sein. Gemeinsam mit Dresdner Initiativen\, die sich mit nachhaltiger Mobilität befassen\, wird es einen kurzen Rundgang durch Gruna geben. Anschließend werden in einer offenen Diskussionsrunde Erfahrungen ausgetauscht\, Horinzonte erweitert und Grenzen überwunden.
URL:https://dresden-gruna.de/event/internationaler-erfahrungsaustausch-nachhaltige-mobilitaet/
LOCATION:Bürger-Treff „Grunaer Aue“ Winterbergstr.31c\, 01277 Dresden\, Winterbergstraße 31c\, Dresden\, 01277\, Deutschland
CATEGORIES:Planungs- und Absprachetreffen,Projekte und Aktionen
ORGANIZER;CN="'In Gruna leben' e.V.":MAILTO:post@dresden-gruna.de
END:VEVENT
END:VCALENDAR