BEGIN:VCALENDAR
VERSION:2.0
PRODID:-//In Gruna leben e.V. - ECPv6.8.3//NONSGML v1.0//EN
CALSCALE:GREGORIAN
METHOD:PUBLISH
X-ORIGINAL-URL:https://dresden-gruna.de
X-WR-CALDESC:Veranstaltungen für In Gruna leben e.V.
REFRESH-INTERVAL;VALUE=DURATION:PT1H
X-Robots-Tag:noindex
X-PUBLISHED-TTL:PT1H
BEGIN:VTIMEZONE
TZID:Europe/Berlin
BEGIN:DAYLIGHT
TZOFFSETFROM:+0100
TZOFFSETTO:+0200
TZNAME:CEST
DTSTART:20190331T010000
END:DAYLIGHT
BEGIN:STANDARD
TZOFFSETFROM:+0200
TZOFFSETTO:+0100
TZNAME:CET
DTSTART:20191027T010000
END:STANDARD
END:VTIMEZONE
BEGIN:VEVENT
DTSTART;TZID=Europe/Berlin:20190515T180000
DTEND;TZID=Europe/Berlin:20190515T193000
DTSTAMP:20260425T225807
CREATED:20190424T214343Z
LAST-MODIFIED:20190424T214343Z
UID:1392-1557943200-1557948600@dresden-gruna.de
SUMMARY:Frühlingslieder
DESCRIPTION:Kultur-Mittwoch in der „Grunaer Aue“:\n„Frühling lässt sein buntes Band …“ Singen und muszizieren mit der singenden Krankenschwester\, gern zum Mitmachen und Mitbringen einer Gabe des Frühlings“
URL:https://dresden-gruna.de/event/fruehlingslieder/
LOCATION:Bürger-Treff „Grunaer Aue“ Winterbergstr.31c\, 01277 Dresden\, Winterbergstraße 31c\, Dresden\, 01277\, Deutschland
CATEGORIES:Projekte und Aktionen
ORGANIZER;CN="'In Gruna leben' e.V.":MAILTO:post@dresden-gruna.de
END:VEVENT
END:VCALENDAR