BEGIN:VCALENDAR
VERSION:2.0
PRODID:-//In Gruna leben e.V. - ECPv6.8.3//NONSGML v1.0//EN
CALSCALE:GREGORIAN
METHOD:PUBLISH
X-ORIGINAL-URL:https://dresden-gruna.de
X-WR-CALDESC:Veranstaltungen für In Gruna leben e.V.
REFRESH-INTERVAL;VALUE=DURATION:PT1H
X-Robots-Tag:noindex
X-PUBLISHED-TTL:PT1H
BEGIN:VTIMEZONE
TZID:Europe/Berlin
BEGIN:DAYLIGHT
TZOFFSETFROM:+0100
TZOFFSETTO:+0200
TZNAME:CEST
DTSTART:20190331T010000
END:DAYLIGHT
BEGIN:STANDARD
TZOFFSETFROM:+0200
TZOFFSETTO:+0100
TZNAME:CET
DTSTART:20191027T010000
END:STANDARD
END:VTIMEZONE
BEGIN:VEVENT
DTSTART;TZID=Europe/Berlin:20190415T140000
DTEND;TZID=Europe/Berlin:20190415T153000
DTSTAMP:20260426T003005
CREATED:20190411T220426Z
LAST-MODIFIED:20190411T220426Z
UID:1368-1555336800-1555342200@dresden-gruna.de
SUMMARY:Auf zu neuen Ufern im eigenen Leben! ErzählCafé mit Frau Buchmann von der Bürgerstiftung
DESCRIPTION:Auf zu neuen Ufern im eigenen Leben!\nErzählCafé mit Frau Buchmann von der Bürgerstiftung \n \nMo.\, 15.04. 2019\, 14 Uhr\nim Bürgertreff „Grunaer Aue“\, Winterbergstr. 31c\, 01277 Dresden \n  \nZur Einstimmung:  \nSchon gehört? Nicht wenige DresdnerInnen tauschen sich zurzeit dazu aus\, welche Aktivitäten im Ruhestand möglich sind. Doch die Frage weist weit darüber hinaus\, da es offenbar ohne Ehrenamt und Freiwilligenengagement in vielen Bereichen nicht mehr geht und auch viele Zeitgenossen gerade in einer derartigen\, selbst bestimmten Tätigkeit Anerkennung und Erfüllung finden. So sind Landeshauptstadt und Bürgerstiftung zur Verbesserung der Rahmenbedingungen für bürgerschaftliches Engagement aktiv und haben u. a. das Internetportal aktualisiert – siehe näher auf www.ehrensache.jetzt/. \nIn einer Gesprächsrunde von Menschen an der Schwelle zum sog. Dritten Lebensabschnitt wurde sichtbar\, wie wichtig nach der Berufslaufbahn die eigene Persönlichkeit jedes Menschen ist\, gerade weil die FREIWILLIGKEIT des persönlichen Engagements noch viel bedeutsamer wird. Hier kann man an biografisch Verschüttetem (ein Beispiel ist das Laienschauspiel) ebenso anknüpfen wie an im Berufsleben erworbene Spezialkenntnisse und Erfahrungen (Seniorexperten als Mentoren). Natürlich kann man auch neue Tätigkeitsfelder entdecken\, indem man sich stärker auf seinen Lebensort orientiert\, zum Beispiel in der Nachbarschaftsselbsthilfe\, im Heimatverein etc. Die Logik eines persönlichen Lebensweges kommt dabei ebenso zum Tragen\, wie der Zufall von Partnern und Anregern beim Eintritt in den „Ruhestand“ nicht unwesentlich ist. Der demnächst in Dresden erscheinende Ruhestandskompass und auch die Bürgerstiftung wollen bei der Organisation solcher Impulse behilflich sein. Schließlich sehen wir die Arbeitgeber stärker als bisher in der Pflicht\, wobei das Beispiel der Betriebsnachfolge deutlich zeigt\, wie sehr das im beidseitigen Interesse liegt. Das betrifft ebenso Wohlfahrtsorganisationen\, die ohnehin auf das Mittun Ehrenamtlicher angewiesen sind. In besonderer Verantwortung sehen wir auch die Stadtverwaltung als Arbeitgeber und als im Auftrag der EinwohnerInnen handelnder Akteur. \nIm ErzählCafé am 15.April werden wir das Thema freiwilliges Engagement weiter vertiefen und uns darüber austauschen\, inwieweit man als Persönlichkeit von einem Ehrenamt profitiert. Frau Buchmann von der Freiwilligenagentur wird konkrete Einsatzmöglichkeiten vorstellen. Daneben beantwortet sie Ihre Fragen\, beispielsweise\, worauf bei der Auswahl zu achten ist oder welche Rahmenbedingungen bestehen. Sie sind herzlich eingeladen. Gern dürfen Sie auch am Thema interessierte Freunde und Bekannte mitbringen\, natürlich auch aus anderen Stadtteilen. \nWer allerdings das höchste Ehrenamt im DFB anstrebt\, wird in Gruna nicht fündig werden\, zumal wir mit Aufwandsentschädigungen um 0\,5 Mio. € nicht mithalten wollen!
URL:https://dresden-gruna.de/event/auf-zu-neuen-ufern-im-eigenen-leben-erzaehlcafe-mit-frau-buchmann-von-der-buergerstiftung/
LOCATION:Bürger-Treff „Grunaer Aue“ Winterbergstr.31c\, 01277 Dresden\, Winterbergstraße 31c\, Dresden\, 01277\, Deutschland
CATEGORIES:Projekte und Aktionen
ORGANIZER;CN="'In Gruna leben' e.V.":MAILTO:post@dresden-gruna.de
END:VEVENT
END:VCALENDAR