BEGIN:VCALENDAR
VERSION:2.0
PRODID:-//In Gruna leben e.V. - ECPv6.8.3//NONSGML v1.0//EN
CALSCALE:GREGORIAN
METHOD:PUBLISH
X-ORIGINAL-URL:https://dresden-gruna.de
X-WR-CALDESC:Veranstaltungen für In Gruna leben e.V.
REFRESH-INTERVAL;VALUE=DURATION:PT1H
X-Robots-Tag:noindex
X-PUBLISHED-TTL:PT1H
BEGIN:VTIMEZONE
TZID:Europe/Berlin
BEGIN:DAYLIGHT
TZOFFSETFROM:+0100
TZOFFSETTO:+0200
TZNAME:CEST
DTSTART:20190331T010000
END:DAYLIGHT
BEGIN:STANDARD
TZOFFSETFROM:+0200
TZOFFSETTO:+0100
TZNAME:CET
DTSTART:20191027T010000
END:STANDARD
END:VTIMEZONE
BEGIN:VEVENT
DTSTART;TZID=Europe/Berlin:20190320T180000
DTEND;TZID=Europe/Berlin:20190320T200000
DTSTAMP:20260426T020609
CREATED:20190126T002346Z
LAST-MODIFIED:20190126T003123Z
UID:1318-1553104800-1553112000@dresden-gruna.de
SUMMARY:Buchvorstellung
DESCRIPTION:Im Rahmen des Kultur-Mittwochs: \nBuchvorstellung und anschließendes Gespräch mit den Autorinnen Prof. Ursula Pfäfflin\, Liane Freudenberg\, Heidrun Novy und Hansi Merkel. Musikalische Begleitung: Isabell Guller und Michael Novy von der Rockband „Ostrea“. \nEintritt frei\, Spenden erlaubt. \nPlakat der Veranstaltung zum herunterladen >>> hier
URL:https://dresden-gruna.de/event/buchvorstellung/
LOCATION:Bürger-Treff „Grunaer Aue“ Winterbergstr.31c\, 01277 Dresden\, Winterbergstraße 31c\, Dresden\, 01277\, Deutschland
CATEGORIES:Projekte und Aktionen
ATTACH;FMTTYPE=image/jpeg:https://dresden-gruna.de/wp-content/uploads/2019/01/Buchvorstellung-e1548462671378.jpg
ORGANIZER;CN="'In Gruna leben' e.V.":MAILTO:post@dresden-gruna.de
END:VEVENT
END:VCALENDAR